BEGIN:VCALENDAR
VERSION:2.0
PRODID:-//Marsha Rafter - ECPv6.15.20//NONSGML v1.0//EN
CALSCALE:GREGORIAN
METHOD:PUBLISH
X-WR-CALNAME:Marsha Rafter
X-ORIGINAL-URL:https://marsharafter.com
X-WR-CALDESC:Events for Marsha Rafter
REFRESH-INTERVAL;VALUE=DURATION:PT1H
X-Robots-Tag:noindex
X-PUBLISHED-TTL:PT1H
BEGIN:VTIMEZONE
TZID:America/Los_Angeles
BEGIN:DAYLIGHT
TZOFFSETFROM:-0800
TZOFFSETTO:-0700
TZNAME:PDT
DTSTART:20150308T100000
END:DAYLIGHT
BEGIN:STANDARD
TZOFFSETFROM:-0700
TZOFFSETTO:-0800
TZNAME:PST
DTSTART:20151101T090000
END:STANDARD
BEGIN:DAYLIGHT
TZOFFSETFROM:-0800
TZOFFSETTO:-0700
TZNAME:PDT
DTSTART:20160313T100000
END:DAYLIGHT
BEGIN:STANDARD
TZOFFSETFROM:-0700
TZOFFSETTO:-0800
TZNAME:PST
DTSTART:20161106T090000
END:STANDARD
BEGIN:DAYLIGHT
TZOFFSETFROM:-0800
TZOFFSETTO:-0700
TZNAME:PDT
DTSTART:20170312T100000
END:DAYLIGHT
BEGIN:STANDARD
TZOFFSETFROM:-0700
TZOFFSETTO:-0800
TZNAME:PST
DTSTART:20171105T090000
END:STANDARD
END:VTIMEZONE
BEGIN:VEVENT
DTSTART;TZID=America/Los_Angeles:20161115T013000
DTEND;TZID=America/Los_Angeles:20161115T160000
DTSTAMP:20260420T234432
CREATED:20161109T233400Z
LAST-MODIFIED:20161109T233400Z
UID:900-1479173400-1479225600@marsharafter.com
SUMMARY:Angel Sculptures
DESCRIPTION:Due to popular demand\, I am  excited to be adding an afternoon class on Tuesdays for creating Angel Sculptures! This will be a Two-Day Class on November 15th & 22nd from 1:30 am – 4:00 pm We’ll be using the slab method of hand building and texture tools galore to create gorgeous sculptural angels with a ton of character that will look delightful in your home or as a Christmas gift for someone special.
URL:https://marsharafter.com/event/angel-sculptures/2016-11-15/
ATTACH;FMTTYPE=image/jpeg:https://marsharafter.com/wp-content/uploads/2016/10/angels-2-e1477525367528.jpg
END:VEVENT
END:VCALENDAR