BEGIN:VCALENDAR
VERSION:2.0
PRODID:-//Marsha Rafter - ECPv6.15.20//NONSGML v1.0//EN
CALSCALE:GREGORIAN
METHOD:PUBLISH
X-ORIGINAL-URL:https://marsharafter.com
X-WR-CALDESC:Events for Marsha Rafter
REFRESH-INTERVAL;VALUE=DURATION:PT1H
X-Robots-Tag:noindex
X-PUBLISHED-TTL:PT1H
BEGIN:VTIMEZONE
TZID:America/Los_Angeles
BEGIN:DAYLIGHT
TZOFFSETFROM:-0800
TZOFFSETTO:-0700
TZNAME:PDT
DTSTART:20160313T100000
END:DAYLIGHT
BEGIN:STANDARD
TZOFFSETFROM:-0700
TZOFFSETTO:-0800
TZNAME:PST
DTSTART:20161106T090000
END:STANDARD
BEGIN:DAYLIGHT
TZOFFSETFROM:-0800
TZOFFSETTO:-0700
TZNAME:PDT
DTSTART:20170312T100000
END:DAYLIGHT
BEGIN:STANDARD
TZOFFSETFROM:-0700
TZOFFSETTO:-0800
TZNAME:PST
DTSTART:20171105T090000
END:STANDARD
BEGIN:DAYLIGHT
TZOFFSETFROM:-0800
TZOFFSETTO:-0700
TZNAME:PDT
DTSTART:20180311T100000
END:DAYLIGHT
BEGIN:STANDARD
TZOFFSETFROM:-0700
TZOFFSETTO:-0800
TZNAME:PST
DTSTART:20181104T090000
END:STANDARD
END:VTIMEZONE
BEGIN:VEVENT
DTSTART;TZID=America/Los_Angeles:20170829T100000
DTEND;TZID=America/Los_Angeles:20170829T123000
DTSTAMP:20260419T114718
CREATED:20170708T003414Z
LAST-MODIFIED:20170828T235822Z
UID:1477-1504000800-1504009800@marsharafter.com
SUMMARY:Tuesday Morning Classes
DESCRIPTION:Tuesday Morning classes in August are from 10:00-12:30 and meet on August 1\, 8\, 15\, 22\, and 29. There are so many creative projects in process in the studio now- tables\, a variety of wall pieces\, mandalas\, and two giant “Tree of Life” pieces.  You may choose your own project or as always I have ideas for projects ready for you if you prefer.  In addition to mosaics\, you have the opportunity to learn how to work with clay to create tiles and other inclusions for your mosaics or to make pots. Beginners and advanced students are welcome. \nCome join the fun! I promise you’ll be glad you did. \n 
URL:https://marsharafter.com/event/tuesday-morning-classes-3-2017-08-29/2017-08-29/
LOCATION:Marsha’s Studio\, 28202 Burned Oak Terrace\, Escondido\, CA\, 92026\, United States
CATEGORIES:Class
ATTACH;FMTTYPE=image/jpeg:https://marsharafter.com/wp-content/uploads/2017/06/FullSizeRender-10.jpg
GEO:33.2192859;-117.103975
X-APPLE-STRUCTURED-LOCATION;VALUE=URI;X-ADDRESS=Marsha’s Studio 28202 Burned Oak Terrace Escondido CA 92026 United States;X-APPLE-RADIUS=500;X-TITLE=28202 Burned Oak Terrace:geo:-117.103975,33.2192859
END:VEVENT
END:VCALENDAR