BEGIN:VCALENDAR
VERSION:2.0
PRODID:-//Marsha Rafter - ECPv6.15.20//NONSGML v1.0//EN
CALSCALE:GREGORIAN
METHOD:PUBLISH
X-WR-CALNAME:Marsha Rafter
X-ORIGINAL-URL:https://marsharafter.com
X-WR-CALDESC:Events for Marsha Rafter
REFRESH-INTERVAL;VALUE=DURATION:PT1H
X-Robots-Tag:noindex
X-PUBLISHED-TTL:PT1H
BEGIN:VTIMEZONE
TZID:America/Los_Angeles
BEGIN:DAYLIGHT
TZOFFSETFROM:-0800
TZOFFSETTO:-0700
TZNAME:PDT
DTSTART:20170312T100000
END:DAYLIGHT
BEGIN:STANDARD
TZOFFSETFROM:-0700
TZOFFSETTO:-0800
TZNAME:PST
DTSTART:20171105T090000
END:STANDARD
BEGIN:DAYLIGHT
TZOFFSETFROM:-0800
TZOFFSETTO:-0700
TZNAME:PDT
DTSTART:20180311T100000
END:DAYLIGHT
BEGIN:STANDARD
TZOFFSETFROM:-0700
TZOFFSETTO:-0800
TZNAME:PST
DTSTART:20181104T090000
END:STANDARD
BEGIN:DAYLIGHT
TZOFFSETFROM:-0800
TZOFFSETTO:-0700
TZNAME:PDT
DTSTART:20190310T100000
END:DAYLIGHT
BEGIN:STANDARD
TZOFFSETFROM:-0700
TZOFFSETTO:-0800
TZNAME:PST
DTSTART:20191103T090000
END:STANDARD
END:VTIMEZONE
BEGIN:VEVENT
DTSTART;TZID=America/Los_Angeles:20180102T100000
DTEND;TZID=America/Los_Angeles:20180102T123000
DTSTAMP:20260422T035606
CREATED:20171220T171752Z
LAST-MODIFIED:20180110T223907Z
UID:1848-1514887200-1514896200@marsharafter.com
SUMMARY:Tuesday Morning Classes
DESCRIPTION:Tuesday Morning classes in January are from 10:00-12:30 and meet on January 2\, 9\, and 16. There are so many creative projects in process in the studio now-  a variety of wall pieces\, mandalas\,  two giant “Tree of Life” pieces\, stepping stones for a pathway\, mosaic birds\, and a mosaic turtle. On Tuesdays\, you may choose your own project or as always I have ideas for projects ready for you if you prefer. In addition to mosaics\, you have the opportunity to learn how to work with clay to create tiles and other inclusions for your mosaics or to make pots. Beginner to advanced students are welcome. Cost includes materials. \nCome join the fun! I promise you’ll be glad you did. \n\n		\n		\n			\n				\n			\n				\n				Nancy’s mandala\n				\n			\n				\n			\n				\n				Colleen’s dragonfly\n				\n			\n				\n			\n				\n				Jacque’s mandala\n				\n			\n				\n			\n				\n				Mariann’s mandala\n				\n			\n				\n			\n				\n				Gina’s mandala flower\n				\n			\n				\n			\n				\n				Gina’s mandala\n				\n			\n				\n			\n				\n				Gayle’s stepping stone\n				\n			\n				\n			\n			\n				\n			\n				\n				Wendy’s crab
URL:https://marsharafter.com/event/tuesday-morning-classes-6/2018-01-02/
LOCATION:Marsha’s Studio\, 28202 Burned Oak Terrace\, Escondido\, CA\, 92026\, United States
CATEGORIES:Class
ATTACH;FMTTYPE=image/jpeg:https://marsharafter.com/wp-content/uploads/2017/12/IMG_5031-e1513734528967.jpg
GEO:33.2192859;-117.103975
X-APPLE-STRUCTURED-LOCATION;VALUE=URI;X-ADDRESS=Marsha’s Studio 28202 Burned Oak Terrace Escondido CA 92026 United States;X-APPLE-RADIUS=500;X-TITLE=28202 Burned Oak Terrace:geo:-117.103975,33.2192859
END:VEVENT
END:VCALENDAR