BEGIN:VCALENDAR
VERSION:2.0
PRODID:-//Marsha Rafter - ECPv6.15.20//NONSGML v1.0//EN
CALSCALE:GREGORIAN
METHOD:PUBLISH
X-ORIGINAL-URL:https://marsharafter.com
X-WR-CALDESC:Events for Marsha Rafter
REFRESH-INTERVAL;VALUE=DURATION:PT1H
X-Robots-Tag:noindex
X-PUBLISHED-TTL:PT1H
BEGIN:VTIMEZONE
TZID:America/Los_Angeles
BEGIN:DAYLIGHT
TZOFFSETFROM:-0800
TZOFFSETTO:-0700
TZNAME:PDT
DTSTART:20190310T100000
END:DAYLIGHT
BEGIN:STANDARD
TZOFFSETFROM:-0700
TZOFFSETTO:-0800
TZNAME:PST
DTSTART:20191103T090000
END:STANDARD
BEGIN:DAYLIGHT
TZOFFSETFROM:-0800
TZOFFSETTO:-0700
TZNAME:PDT
DTSTART:20200308T100000
END:DAYLIGHT
BEGIN:STANDARD
TZOFFSETFROM:-0700
TZOFFSETTO:-0800
TZNAME:PST
DTSTART:20201101T090000
END:STANDARD
BEGIN:DAYLIGHT
TZOFFSETFROM:-0800
TZOFFSETTO:-0700
TZNAME:PDT
DTSTART:20210314T100000
END:DAYLIGHT
BEGIN:STANDARD
TZOFFSETFROM:-0700
TZOFFSETTO:-0800
TZNAME:PST
DTSTART:20211107T090000
END:STANDARD
END:VTIMEZONE
BEGIN:VEVENT
DTSTART;TZID=America/Los_Angeles:20200303T100000
DTEND;TZID=America/Los_Angeles:20200303T123000
DTSTAMP:20260424T122039
CREATED:20200122T190800Z
LAST-MODIFIED:20200301T190334Z
UID:3511-1583229600-1583238600@marsharafter.com
SUMMARY:Tuesday Morning Classes in Marsha's Studio March 3
DESCRIPTION:  \n \nThere are so many creative projects in process in the studio –  a variety of wall pieces\, tables\, mirrors\, mandalas\, garden art pieces\,  a large “Tree of Life”\, and totems. On Tuesdays\, you may choose your own project or\, as always\, I have ideas for projects ready for you if you prefer. Not only will you leave with a wealth of information\, but you will also feel refreshed and renewed as you take tiny pieces and turn them into something beautiful. \nMosaic has been found to be very therapeutic for the body\, mind and soul\, is a great stress reliever\, and students experience a deep sense of personal freedom and accomplishment in this process. The environment in the studio is very nurturing and there is a tremendous sense of comraderie that has developed that you can be a part of. \nIt is recommended that students start with a small basic project to learn the techniques that will enable you to establish the foundation on which you will be able to build your expertise as a mosaic artist for both fun or profit. \nClass sizes vary\, but I always strive to provide students with plenty of personal time for one on one instruction. Email me – marsha@marsharafter.com\, call\,  or text 530-277-5494 with questions. \n*The cost of $45.00 covers most materials. Occasionally there is an extra fee for hardware or large substrates. \nAll tools needed are available here in the studio. Please wear clothes that you don’t mind getting dirty or wear an apron. \n* Due to allergies\, please refrain from wearing any fragrances.
URL:https://marsharafter.com/event/tuesday-morning-classes-in-marshas-studio-march-3/
LOCATION:Marsha’s Studio\, 28202 Burned Oak Terrace\, Escondido\, CA\, 92026\, United States
CATEGORIES:Class,Studio
ATTACH;FMTTYPE=image/jpeg:https://marsharafter.com/wp-content/uploads/2019/09/Totem-Tinas-heart-e1568250285653.jpg
GEO:33.2192859;-117.103975
X-APPLE-STRUCTURED-LOCATION;VALUE=URI;X-ADDRESS=Marsha’s Studio 28202 Burned Oak Terrace Escondido CA 92026 United States;X-APPLE-RADIUS=500;X-TITLE=28202 Burned Oak Terrace:geo:-117.103975,33.2192859
END:VEVENT
BEGIN:VEVENT
DTSTART;TZID=America/Los_Angeles:20200307T090000
DTEND;TZID=America/Los_Angeles:20200308T170000
DTSTAMP:20260424T122039
CREATED:20191008T215533Z
LAST-MODIFIED:20191008T220356Z
UID:3276-1583571600-1583686800@marsharafter.com
SUMMARY:Mosaic Mandalas at the California Center for Creative Renewal
DESCRIPTION:March 7\, 8\, 2020 \n     9:00-5:00 \nThis will be my third year teaching at the California center for Creative Renewal. It’s such an inspirational place to be. Ellen’s garden is magnificent. Come join us for two days of mandala making. \nUsing the symbolic meanings of colors to select your materials\, you will be guided to complete a 16” mandala from design to grout in two days. Using glass gems\, stained glass\, mirrored glass\, and ceramic tiles\, you will become immersed in the symmetry and flow of this circular form as the creating becomes a form of meditation. The materials used are weatherproof which will allow you to hang your piece outside on a garden wall. \nYou can register directly through the California Center for Creative Renewal here: \nhttps://www.artretreats.com/events/mosaic-mandalas-3
URL:https://marsharafter.com/event/mosaic-mandalas-at-the-california-center-for-creative-renewal/
LOCATION:Center for Creative Renewal\, Crest Dr.\, Encinitas\, CA\, 92024\, United States
CATEGORIES:Class,Other Locations,Workshop
ATTACH;FMTTYPE=image/jpeg:https://marsharafter.com/wp-content/uploads/2019/10/IMG_1682-e1570569761629.jpg
GEO:33.0312751;-117.2633445
X-APPLE-STRUCTURED-LOCATION;VALUE=URI;X-ADDRESS=Center for Creative Renewal Crest Dr. Encinitas CA 92024 United States;X-APPLE-RADIUS=500;X-TITLE=Crest Dr.:geo:-117.2633445,33.0312751
END:VEVENT
BEGIN:VEVENT
DTSTART;TZID=America/Los_Angeles:20200310T100000
DTEND;TZID=America/Los_Angeles:20200310T123000
DTSTAMP:20260424T122039
CREATED:20200122T191150Z
LAST-MODIFIED:20200310T001911Z
UID:3515-1583834400-1583843400@marsharafter.com
SUMMARY:Tuesday Morning Classes in Marsha's Studio- March 10
DESCRIPTION:  \nThere are so many creative projects in process in the studio –  a variety of wall pieces\, tables\, mirrors\, mandalas\, garden art pieces\,  a large “Tree of Life”\, and totems. On Tuesdays\, you may choose your own project or\, as always\, I have ideas for projects ready for you if you prefer. Not only will you leave with a wealth of information\, but you will also feel refreshed and renewed as you take tiny pieces and turn them into something beautiful. \nMosaic has been found to be very therapeutic for the body\, mind and soul\, is a great stress reliever\, and students experience a deep sense of personal freedom and accomplishment in this process. The environment in the studio is very nurturing and there is a tremendous sense of comraderie that has developed that you can be a part of. \nIt is recommended that students start with a small basic project to learn the techniques that will enable you to establish the foundation on which you will be able to build your expertise as a mosaic artist for both fun or profit. \nClass sizes vary\, but I always strive to provide students with plenty of personal time for one on one instruction. Email me – marsha@marsharafter.com\, call\,  or text 530-277-5494 with questions. \n*The cost of $45.00 covers most materials. Occasionally there is an extra fee for hardware or large substrates. \nAll tools needed are available here in the studio. Please wear clothes that you don’t mind getting dirty or wear an apron. \n* Due to allergies\, please refrain from wearing any fragrances.
URL:https://marsharafter.com/event/tuesday-morning-classes-in-marshas-studio-march-10/
LOCATION:Marsha’s Studio\, 28202 Burned Oak Terrace\, Escondido\, CA\, 92026\, United States
CATEGORIES:Class,Studio
ATTACH;FMTTYPE=image/jpeg:https://marsharafter.com/wp-content/uploads/2019/10/IMG_1682-e1570569761629.jpg
GEO:33.2192859;-117.103975
X-APPLE-STRUCTURED-LOCATION;VALUE=URI;X-ADDRESS=Marsha’s Studio 28202 Burned Oak Terrace Escondido CA 92026 United States;X-APPLE-RADIUS=500;X-TITLE=28202 Burned Oak Terrace:geo:-117.103975,33.2192859
END:VEVENT
BEGIN:VEVENT
DTSTART;TZID=America/Los_Angeles:20200317T100000
DTEND;TZID=America/Los_Angeles:20200317T123000
DTSTAMP:20260424T122039
CREATED:20200122T191430Z
LAST-MODIFIED:20200310T001551Z
UID:3519-1584439200-1584448200@marsharafter.com
SUMMARY:Tuesday Morning Classes in Marsha's Studio- March 17
DESCRIPTION:There are so many creative projects in process in the studio –  a variety of wall pieces\, tables\, mirrors\, mandalas\, garden art pieces\,  a large “Tree of Life”\, and totems. On Tuesdays\, you may choose your own project or\, as always\, I have ideas for projects ready for you if you prefer. Not only will you leave with a wealth of information\, but you will also feel refreshed and renewed as you take tiny pieces and turn them into something beautiful. \nMosaic has been found to be very therapeutic for the body\, mind and soul\, is a great stress reliever\, and students experience a deep sense of personal freedom and accomplishment in this process. The environment in the studio is very nurturing and there is a tremendous sense of comraderie that has developed that you can be a part of. \nIt is recommended that students start with a small basic project to learn the techniques that will enable you to establish the foundation on which you will be able to build your expertise as a mosaic artist for both fun or profit. \nClass sizes vary\, but I always strive to provide students with plenty of personal time for one on one instruction. Email me – marsha@marsharafter.com\, call\,  or text 530-277-5494 with questions. \n*The cost of $45.00 covers most materials. Occasionally there is an extra fee for hardware or large substrates. \nAll tools needed are available here in the studio. Please wear clothes that you don’t mind getting dirty or wear an apron. \n* Due to allergies\, please refrain from wearing any fragrances.
URL:https://marsharafter.com/event/tuesday-morning-classes-in-marshas-studio-march-17/
LOCATION:Marsha’s Studio\, 28202 Burned Oak Terrace\, Escondido\, CA\, 92026\, United States
CATEGORIES:Class,Studio
ATTACH;FMTTYPE=image/jpeg:https://marsharafter.com/wp-content/uploads/2019/09/Totem-Lisas-fish-e1568249745883.jpg
GEO:33.2192859;-117.103975
X-APPLE-STRUCTURED-LOCATION;VALUE=URI;X-ADDRESS=Marsha’s Studio 28202 Burned Oak Terrace Escondido CA 92026 United States;X-APPLE-RADIUS=500;X-TITLE=28202 Burned Oak Terrace:geo:-117.103975,33.2192859
END:VEVENT
BEGIN:VEVENT
DTSTART;TZID=America/Los_Angeles:20200322T180000
DTEND;TZID=America/Los_Angeles:20200329T103000
DTSTAMP:20260424T122039
CREATED:20190723T000558Z
LAST-MODIFIED:20191127T194715Z
UID:3082-1584900000-1585477800@marsharafter.com
SUMMARY:Mosaic Retreat in Paradise- Birds\, Butterflies and Blossoms
DESCRIPTION:$500 holds your spot. Total cost is $1995 which includes instruction and six nights shared room accommodation. \nJoin me and other fun loving\, high energy mosaic mavens on a week long retreat to Hacienda Mosaico\, in Puerto Vallarta\, Mexico. Enjoy creating in an expansive\, tropical\, outdoor and art filled walled garden.  Everywhere you turn there is art! The dishes are colorful\, the tables are mosaic\, there are mosaic benches and sculptures everywhere\, and even the lamps in the rooms\, the floorcloths\, and the furniture are all handmade art. Meals are served poolside each day for breakfast and lunch and are so delicious. \nHacienda Mosaico is located in Colonia Versalles\, a typical upscale Mexican neighborhood that affords visitors a chance to experience the charm of daily life in old Mexico. You’ll find cobbled streets\, with tortillerias and markets catering to the locals rather than the tourists…..craft shops\, cantinas\, night life and adventure. \nEvenings we will go into town for their weekly artwalk and to enjoy shopping\, to explore and have dinner by the beach. \nAll details can be found on the Hacienda’s website. \nhttp://haciendamosaico.com/marsha-rafter-2020/ \n\n		\n		\n			\n				\n			\n				\n				Happy Campers\n				\n			\n				\n			\n				\n				Mosaic bench downtown\n				\n			\n				\n			\n				\n				Gina and her mosaic watering can\n				\n			\n				\n			\n				\n				Pam working on the top of her totem\n				\n			\n				\n			\n				\n				Nancy working on her bird\n				\n			\n				\n			\n				\n				Chelsea and her mushroom\n				\n			\n				\n			\n				\n				Teresa and her butterfly\n				\n			\n				\n			\n				\n				Kathy and her turtle\n				\n			\n				\n			\n				\n				Mary and the cylinder of magnificence\n				\n			\n				\n			\n				\n				The gang from 2019\n				\n			\n				\n			\n				\n				Fran working on her heart\n				\n			\n				\n			\n				\n				A beach walk at sunset\n				\n			\n				\n			\n				\n				Lori and her totem\n				\n			\n				\n			\n				\n				Jorge\, our chef\, and his beautiful presentation for lunch \n				\n			\n				\n			\n				\n				delicious and abundant food\n				\n			\n				\n			\n				\n				The seafood is so fresh\n				\n			\n				\n			\n				\n				Salads at every meal
URL:https://marsharafter.com/event/mosaic-retreat-in-paradise/
LOCATION:Hacienda Mosaico\, Puerta Vallarta\, Mexico
CATEGORIES:Class,Retreat
ATTACH;FMTTYPE=image/jpeg:https://marsharafter.com/wp-content/uploads/2019/07/IMG_5155-e1563834953496.jpg
ORGANIZER;CN="Hacienda Mosaico":MAILTO:info@haciendamosaico.com
GEO:20.653407;-105.2253316
END:VEVENT
END:VCALENDAR