BEGIN:VCALENDAR
VERSION:2.0
PRODID:-//Marsha Rafter - ECPv6.15.20//NONSGML v1.0//EN
CALSCALE:GREGORIAN
METHOD:PUBLISH
X-WR-CALNAME:Marsha Rafter
X-ORIGINAL-URL:https://marsharafter.com
X-WR-CALDESC:Events for Marsha Rafter
REFRESH-INTERVAL;VALUE=DURATION:PT1H
X-Robots-Tag:noindex
X-PUBLISHED-TTL:PT1H
BEGIN:VTIMEZONE
TZID:America/Los_Angeles
BEGIN:DAYLIGHT
TZOFFSETFROM:-0800
TZOFFSETTO:-0700
TZNAME:PDT
DTSTART:20200308T100000
END:DAYLIGHT
BEGIN:STANDARD
TZOFFSETFROM:-0700
TZOFFSETTO:-0800
TZNAME:PST
DTSTART:20201101T090000
END:STANDARD
BEGIN:DAYLIGHT
TZOFFSETFROM:-0800
TZOFFSETTO:-0700
TZNAME:PDT
DTSTART:20210314T100000
END:DAYLIGHT
BEGIN:STANDARD
TZOFFSETFROM:-0700
TZOFFSETTO:-0800
TZNAME:PST
DTSTART:20211107T090000
END:STANDARD
BEGIN:DAYLIGHT
TZOFFSETFROM:-0800
TZOFFSETTO:-0700
TZNAME:PDT
DTSTART:20220313T100000
END:DAYLIGHT
BEGIN:STANDARD
TZOFFSETFROM:-0700
TZOFFSETTO:-0800
TZNAME:PST
DTSTART:20221106T090000
END:STANDARD
END:VTIMEZONE
BEGIN:VEVENT
DTSTART;TZID=America/Los_Angeles:20210706T100000
DTEND;TZID=America/Los_Angeles:20210706T123000
DTSTAMP:20260422T153347
CREATED:20210629T213855Z
LAST-MODIFIED:20210629T213855Z
UID:4431-1625565600-1625574600@marsharafter.com
SUMMARY:Tuesday Morning Classes- July 6\, 2021
DESCRIPTION:There are so many creative projects in process in the studio –  a variety of wall pieces\, tables\, mirrors\, mandalas\, and garden art pieces. This class is a combination of beginners as well as advanced students. On Tuesdays\, you may choose your own project or\, as always\, I have ideas for projects ready for you if you prefer. Not only will you leave with a wealth of information\, but you will also feel refreshed and renewed as you take tiny pieces and turn them into something beautiful. \nMosaic has been found to be very therapeutic for the body\, mind and soul\, is a great stress reliever\, and students experience a deep sense of personal freedom and accomplishment in this process. The environment in the studio is very nurturing and there is a tremendous sense of comradery that has developed that you can be a part of. \nIt is recommended that students start with a small basic project to learn the techniques that will enable you to establish the foundation on which you will be able to build your expertise as a mosaic artist for both fun or profit. \nClass sizes will be kept to a maximum of six for social distancing. Masks must be worn. \nEmail me – marsha@marsharafter.com\, call\,  or text 530-277-5494 with questions. \n*The cost of $50.00 covers most materials. Occasionally there is an extra fee for hardware or large substrates.
URL:https://marsharafter.com/event/tuesday-morning-classes-july-6-2021/
LOCATION:Marsha’s Studio\, 28202 Burned Oak Terrace\, Escondido\, CA\, 92026\, United States
CATEGORIES:Class
ATTACH;FMTTYPE=image/jpeg:https://marsharafter.com/wp-content/uploads/2020/04/IMG_0447-e1640035955198.jpg
GEO:33.2192859;-117.103975
X-APPLE-STRUCTURED-LOCATION;VALUE=URI;X-ADDRESS=Marsha’s Studio 28202 Burned Oak Terrace Escondido CA 92026 United States;X-APPLE-RADIUS=500;X-TITLE=28202 Burned Oak Terrace:geo:-117.103975,33.2192859
END:VEVENT
BEGIN:VEVENT
DTSTART;TZID=America/Los_Angeles:20210713T100000
DTEND;TZID=America/Los_Angeles:20210713T123000
DTSTAMP:20260422T153347
CREATED:20210629T214235Z
LAST-MODIFIED:20210629T215227Z
UID:4435-1626170400-1626179400@marsharafter.com
SUMMARY:Tuesday Morning Classes- July 13th
DESCRIPTION:There are so many creative projects in process in the studio –  a variety of wall pieces\, tables\, mirrors\, mandalas\, and garden art pieces. This class is a combination of beginners as well as advanced students. On Tuesdays\, you may choose your own project or\, as always\, I have ideas for projects ready for you if you prefer. Not only will you leave with a wealth of information\, but you will also feel refreshed and renewed as you take tiny pieces and turn them into something beautiful. \nMosaic has been found to be very therapeutic for the body\, mind and soul\, is a great stress reliever\, and students experience a deep sense of personal freedom and accomplishment in this process. The environment in the studio is very nurturing and there is a tremendous sense of comradery that has developed that you can be a part of. \nIt is recommended that students start with a small basic project to learn the techniques that will enable you to establish the foundation on which you will be able to build your expertise as a mosaic artist for both fun or profit. \nClass sizes will be kept to a maximum of six for social distancing. Masks must be worn. \nEmail me – marsha@marsharafter.com\, call\,  or text 530-277-5494 with questions. \n*The cost of $50.00 covers most materials. Occasionally there is an extra fee for hardware or large substrates.
URL:https://marsharafter.com/event/tuesday-morning-classes-july-13th/
LOCATION:Marsha’s Studio\, 28202 Burned Oak Terrace\, Escondido\, CA\, 92026\, United States
CATEGORIES:Class
ATTACH;FMTTYPE=image/jpeg:https://marsharafter.com/wp-content/uploads/2019/02/IMG_1299-e1550617764673.jpg
GEO:33.2192859;-117.103975
X-APPLE-STRUCTURED-LOCATION;VALUE=URI;X-ADDRESS=Marsha’s Studio 28202 Burned Oak Terrace Escondido CA 92026 United States;X-APPLE-RADIUS=500;X-TITLE=28202 Burned Oak Terrace:geo:-117.103975,33.2192859
END:VEVENT
BEGIN:VEVENT
DTSTART;TZID=America/Los_Angeles:20210720T100000
DTEND;TZID=America/Los_Angeles:20210720T123000
DTSTAMP:20260422T153347
CREATED:20210629T214616Z
LAST-MODIFIED:20210629T222516Z
UID:4438-1626775200-1626784200@marsharafter.com
SUMMARY:Tuesday Morning Classes- July 20th
DESCRIPTION:There are so many creative projects in process in the studio –  a variety of wall pieces\, tables\, mirrors\, mandalas\, and garden art pieces. This class is a combination of beginners as well as advanced students. On Tuesdays\, you may choose your own project or\, as always\, I have ideas for projects ready for you if you prefer. Not only will you leave with a wealth of information\, but you will also feel refreshed and renewed as you take tiny pieces and turn them into something beautiful. \nMosaic has been found to be very therapeutic for the body\, mind and soul\, is a great stress reliever\, and students experience a deep sense of personal freedom and accomplishment in this process. The environment in the studio is very nurturing and there is a tremendous sense of comradery that has developed that you can be a part of. \nIt is recommended that students start with a small basic project to learn the techniques that will enable you to establish the foundation on which you will be able to build your expertise as a mosaic artist for both fun or profit. \nClass sizes will be kept to a maximum of six for social distancing. Masks must be worn. \nEmail me – marsha@marsharafter.com\, call\,  or text 530-277-5494 with questions. \n*The cost of $50.00 covers most materials. Occasionally there is an extra fee for hardware or large substrates.
URL:https://marsharafter.com/event/tduesday-morning-classes-july-20th/
LOCATION:Marsha’s Studio\, 28202 Burned Oak Terrace\, Escondido\, CA\, 92026\, United States
CATEGORIES:Class
ATTACH;FMTTYPE=image/jpeg:https://marsharafter.com/wp-content/uploads/2020/08/IMG_2351-scaled-e1605715536893.jpg
GEO:33.2192859;-117.103975
X-APPLE-STRUCTURED-LOCATION;VALUE=URI;X-ADDRESS=Marsha’s Studio 28202 Burned Oak Terrace Escondido CA 92026 United States;X-APPLE-RADIUS=500;X-TITLE=28202 Burned Oak Terrace:geo:-117.103975,33.2192859
END:VEVENT
END:VCALENDAR