BEGIN:VCALENDAR
VERSION:2.0
PRODID:-//Marsha Rafter - ECPv6.15.20//NONSGML v1.0//EN
CALSCALE:GREGORIAN
METHOD:PUBLISH
X-WR-CALNAME:Marsha Rafter
X-ORIGINAL-URL:https://marsharafter.com
X-WR-CALDESC:Events for Marsha Rafter
REFRESH-INTERVAL;VALUE=DURATION:PT1H
X-Robots-Tag:noindex
X-PUBLISHED-TTL:PT1H
BEGIN:VTIMEZONE
TZID:America/Los_Angeles
BEGIN:DAYLIGHT
TZOFFSETFROM:-0800
TZOFFSETTO:-0700
TZNAME:PDT
DTSTART:20200308T100000
END:DAYLIGHT
BEGIN:STANDARD
TZOFFSETFROM:-0700
TZOFFSETTO:-0800
TZNAME:PST
DTSTART:20201101T090000
END:STANDARD
BEGIN:DAYLIGHT
TZOFFSETFROM:-0800
TZOFFSETTO:-0700
TZNAME:PDT
DTSTART:20210314T100000
END:DAYLIGHT
BEGIN:STANDARD
TZOFFSETFROM:-0700
TZOFFSETTO:-0800
TZNAME:PST
DTSTART:20211107T090000
END:STANDARD
BEGIN:DAYLIGHT
TZOFFSETFROM:-0800
TZOFFSETTO:-0700
TZNAME:PDT
DTSTART:20220313T100000
END:DAYLIGHT
BEGIN:STANDARD
TZOFFSETFROM:-0700
TZOFFSETTO:-0800
TZNAME:PST
DTSTART:20221106T090000
END:STANDARD
END:VTIMEZONE
BEGIN:VEVENT
DTSTART;TZID=America/Los_Angeles:20211206T140000
DTEND;TZID=America/Los_Angeles:20211206T163000
DTSTAMP:20260424T031825
CREATED:20211120T195952Z
LAST-MODIFIED:20211130T224744Z
UID:4565-1638799200-1638808200@marsharafter.com
SUMMARY:Beginning Mosaic Class-December 6th
DESCRIPTION:  \nBeginning Mosaic Class \nDecember 6th  \n2:00- 4:30 \nFind that perfect rock and join me December 6th for a fun afternoon class. Using stained glass\, mirror glass\, found objects or whatever you may want to bring to add we will complete the rock in one class period. \n***You may also choose to do a bird that can be mounted on a stake or hung on the wall. \nAll materials provided however\, feel free to bring old jewelry or bits and bobs that you can put in to your heart.
URL:https://marsharafter.com/event/mosaic-heart-rock/
LOCATION:Marsha’s Studio\, 28202 Burned Oak Terrace\, Escondido\, CA\, 92026\, United States
CATEGORIES:Class,Studio
ATTACH;FMTTYPE=image/jpeg:https://marsharafter.com/wp-content/uploads/2021/11/heart-rock-e1637438275364.jpg
GEO:33.2192859;-117.103975
X-APPLE-STRUCTURED-LOCATION;VALUE=URI;X-ADDRESS=Marsha’s Studio 28202 Burned Oak Terrace Escondido CA 92026 United States;X-APPLE-RADIUS=500;X-TITLE=28202 Burned Oak Terrace:geo:-117.103975,33.2192859
END:VEVENT
BEGIN:VEVENT
DTSTART;TZID=America/Los_Angeles:20211207T100000
DTEND;TZID=America/Los_Angeles:20211207T123000
DTSTAMP:20260424T031825
CREATED:20211130T223356Z
LAST-MODIFIED:20211130T224600Z
UID:4653-1638871200-1638880200@marsharafter.com
SUMMARY:Tuesday Morning Classes - December 7th\, 2021
DESCRIPTION:  \nThere are so many creative projects in process in the studio –  a variety of wall pieces\, tables\, mirrors\, mandalas\, and garden art pieces. This class is a combination of beginners as well as advanced students. On Tuesdays\, you may choose your own project or\, as always\, I have ideas for projects ready for you if you prefer. Not only will you leave with a wealth of information\, but you will also feel refreshed and renewed as you take tiny pieces and turn them into something beautiful. Mosaics has been found to be very therapeutic for the body\, mind and soul\, is a great stress reliever\, and students experience a deep sense of personal freedom and accomplishment in this process. The environment in the studio is very nurturing and there is a tremendous sense of comradery that has developed that you can be a part of. \nIt is recommended that students start with a small basic project to learn the techniques that will enable you to establish the foundation on which you will be able to build your expertise as a mosaic artist for both fun or profit. \nEmail me – marsha@marsharafter.com\, call\,  or text 530-277-5494 with questions. \n*The cost of $50.00 covers most materials. Occasionally there is an extra fee for hardware or large substrates.
URL:https://marsharafter.com/event/tuesday-morning-classes-december-7th-2021/
LOCATION:Marsha’s Studio\, 28202 Burned Oak Terrace\, Escondido\, CA\, 92026\, United States
CATEGORIES:Class,Studio
ATTACH;FMTTYPE=image/jpeg:https://marsharafter.com/wp-content/uploads/2021/01/IMG_0298-2-e1638311164631.jpg
GEO:33.2192859;-117.103975
X-APPLE-STRUCTURED-LOCATION;VALUE=URI;X-ADDRESS=Marsha’s Studio 28202 Burned Oak Terrace Escondido CA 92026 United States;X-APPLE-RADIUS=500;X-TITLE=28202 Burned Oak Terrace:geo:-117.103975,33.2192859
END:VEVENT
BEGIN:VEVENT
DTSTART;TZID=America/Los_Angeles:20211208T140000
DTEND;TZID=America/Los_Angeles:20211208T163000
DTSTAMP:20260424T031825
CREATED:20211120T201259Z
LAST-MODIFIED:20211130T224712Z
UID:4572-1638972000-1638981000@marsharafter.com
SUMMARY:Beginning Mosaic Class- December 8th
DESCRIPTION:Beginning Mosaic Class \nDecember 8th  \n2:00- 4:30 \nJoin me December 6th for a fun afternoon class. Using stained glass\, mirror glass\, found objects or whatever you may want to bring to add we will complete a small mosaic bird  in one class period. \n***You may also choose to do a heart on a rock. \nAll materials provided however\, feel free to bring old jewelry or bits and bobs that you can put in to your heart.
URL:https://marsharafter.com/event/beginning-mosaic-class-december-8th/
LOCATION:Marsha’s Studio\, 28202 Burned Oak Terrace\, Escondido\, CA\, 92026\, United States
CATEGORIES:Class,Studio
ATTACH;FMTTYPE=image/jpeg:https://marsharafter.com/wp-content/uploads/2021/11/birds-scaled-e1637439018477.jpg
GEO:33.2192859;-117.103975
X-APPLE-STRUCTURED-LOCATION;VALUE=URI;X-ADDRESS=Marsha’s Studio 28202 Burned Oak Terrace Escondido CA 92026 United States;X-APPLE-RADIUS=500;X-TITLE=28202 Burned Oak Terrace:geo:-117.103975,33.2192859
END:VEVENT
BEGIN:VEVENT
DTSTART;TZID=America/Los_Angeles:20211214T100000
DTEND;TZID=America/Los_Angeles:20211214T123000
DTSTAMP:20260424T031825
CREATED:20211130T223637Z
LAST-MODIFIED:20211130T224450Z
UID:4657-1639476000-1639485000@marsharafter.com
SUMMARY:Tuesday Morning Classes - December 14th\, 2021
DESCRIPTION:There are so many creative projects in process in the studio –  a variety of wall pieces\, tables\, mirrors\, mandalas\, and garden art pieces. This class is a combination of beginners as well as advanced students. On Tuesdays\, you may choose your own project or\, as always\, I have ideas for projects ready for you if you prefer. Not only will you leave with a wealth of information\, but you will also feel refreshed and renewed as you take tiny pieces and turn them into something beautiful. Mosaics has been found to be very therapeutic for the body\, mind and soul\, is a great stress reliever\, and students experience a deep sense of personal freedom and accomplishment in this process. The environment in the studio is very nurturing and there is a tremendous sense of comradery that has developed that you can be a part of. \nIt is recommended that students start with a small basic project to learn the techniques that will enable you to establish the foundation on which you will be able to build your expertise as a mosaic artist for both fun or profit. \nEmail me – marsha@marsharafter.com\, call\,  or text 530-277-5494 with questions. \n*The cost of $50.00 covers most materials. Occasionally there is an extra fee for hardware or large substrates.
URL:https://marsharafter.com/event/tuesday-morning-classes-december-14th-2021/
LOCATION:Marsha’s Studio\, 28202 Burned Oak Terrace\, Escondido\, CA\, 92026\, United States
CATEGORIES:Class,Studio
ATTACH;FMTTYPE=image/jpeg:https://marsharafter.com/wp-content/uploads/2020/08/IMG_2438-scaled-e1600216027683.jpg
GEO:33.2192859;-117.103975
X-APPLE-STRUCTURED-LOCATION;VALUE=URI;X-ADDRESS=Marsha’s Studio 28202 Burned Oak Terrace Escondido CA 92026 United States;X-APPLE-RADIUS=500;X-TITLE=28202 Burned Oak Terrace:geo:-117.103975,33.2192859
END:VEVENT
END:VCALENDAR