BEGIN:VCALENDAR
VERSION:2.0
PRODID:-//Marsha Rafter - ECPv6.15.20//NONSGML v1.0//EN
CALSCALE:GREGORIAN
METHOD:PUBLISH
X-ORIGINAL-URL:https://marsharafter.com
X-WR-CALDESC:Events for Marsha Rafter
REFRESH-INTERVAL;VALUE=DURATION:PT1H
X-Robots-Tag:noindex
X-PUBLISHED-TTL:PT1H
BEGIN:VTIMEZONE
TZID:America/Los_Angeles
BEGIN:DAYLIGHT
TZOFFSETFROM:-0800
TZOFFSETTO:-0700
TZNAME:PDT
DTSTART:20210314T100000
END:DAYLIGHT
BEGIN:STANDARD
TZOFFSETFROM:-0700
TZOFFSETTO:-0800
TZNAME:PST
DTSTART:20211107T090000
END:STANDARD
BEGIN:DAYLIGHT
TZOFFSETFROM:-0800
TZOFFSETTO:-0700
TZNAME:PDT
DTSTART:20220313T100000
END:DAYLIGHT
BEGIN:STANDARD
TZOFFSETFROM:-0700
TZOFFSETTO:-0800
TZNAME:PST
DTSTART:20221106T090000
END:STANDARD
BEGIN:DAYLIGHT
TZOFFSETFROM:-0800
TZOFFSETTO:-0700
TZNAME:PDT
DTSTART:20230312T100000
END:DAYLIGHT
BEGIN:STANDARD
TZOFFSETFROM:-0700
TZOFFSETTO:-0800
TZNAME:PST
DTSTART:20231105T090000
END:STANDARD
END:VTIMEZONE
BEGIN:VEVENT
DTSTART;TZID=America/Los_Angeles:20220308T100000
DTEND;TZID=America/Los_Angeles:20220308T123000
DTSTAMP:20260421T190014
CREATED:20220222T220406Z
LAST-MODIFIED:20220222T220953Z
UID:4732-1646733600-1646742600@marsharafter.com
SUMMARY:Tuesday Morning Classes March 8th\, 2022
DESCRIPTION:  \nThere are so many creative projects in process in the studio –  a variety of wall pieces\, tables\, mirrors\, mandalas\, and garden art pieces. This class is a combination of beginners as well as advanced students. On Tuesdays\, you may choose your own project or\, as always\, I have ideas for projects ready for you if you prefer. Not only will you leave with a wealth of information\, but you will also feel refreshed and renewed as you take tiny pieces and turn them into something beautiful. Mosaics has been found to be very therapeutic for the body\, mind and soul\, is a great stress reliever\, and students experience a deep sense of personal freedom and accomplishment in this process. The environment in the studio is very nurturing and there is a tremendous sense of comradery that has developed that you can be a part of. \nIt is recommended that students start with a small basic project to learn the techniques that will enable you to establish the foundation on which you will be able to build your expertise as a mosaic artist for both fun or profit. \nEmail me – marsha@marsharafter.com\, call\,  or text 530-277-5494 with questions. \n*The cost of $50.00 covers most materials. Occasionally there is an extra fee for hardware or large substrates.
URL:https://marsharafter.com/event/tuesday-morning-classes-march-1st-2022/
LOCATION:CA
CATEGORIES:Class,Studio
ATTACH;FMTTYPE=image/jpeg:https://marsharafter.com/wp-content/uploads/2020/04/IMG_0443-e1586215796633.jpg
END:VEVENT
BEGIN:VEVENT
DTSTART;TZID=America/Los_Angeles:20220315T100000
DTEND;TZID=America/Los_Angeles:20220315T123000
DTSTAMP:20260421T190014
CREATED:20220222T220901Z
LAST-MODIFIED:20220222T220901Z
UID:4736-1647338400-1647347400@marsharafter.com
SUMMARY:Tuesday Morning Classes -March 15th
DESCRIPTION:There are so many creative projects in process in the studio –  a variety of wall pieces\, tables\, mirrors\, mandalas\, and garden art pieces. This class is a combination of beginners as well as advanced students. On Tuesdays\, you may choose your own project or\, as always\, I have ideas for projects ready for you if you prefer. Not only will you leave with a wealth of information\, but you will also feel refreshed and renewed as you take tiny pieces and turn them into something beautiful. Mosaics has been found to be very therapeutic for the body\, mind and soul\, is a great stress reliever\, and students experience a deep sense of personal freedom and accomplishment in this process. The environment in the studio is very nurturing and there is a tremendous sense of comradery that has developed that you can be a part of. \nIt is recommended that students start with a small basic project to learn the techniques that will enable you to establish the foundation on which you will be able to build your expertise as a mosaic artist for both fun or profit. \nEmail me – marsha@marsharafter.com\, call\,  or text 530-277-5494 with questions. \n*The cost of $50.00 covers most materials. Occasionally there is an extra fee for hardware or large substrates.
URL:https://marsharafter.com/event/tuesday-morning-classes-march-15th/
LOCATION:CA
CATEGORIES:Class,Studio
ATTACH;FMTTYPE=image/jpeg:https://marsharafter.com/wp-content/uploads/2021/11/birds-scaled-e1637439018477.jpg
END:VEVENT
BEGIN:VEVENT
DTSTART;TZID=America/Los_Angeles:20220322T100000
DTEND;TZID=America/Los_Angeles:20220322T123000
DTSTAMP:20260421T190014
CREATED:20220222T222134Z
LAST-MODIFIED:20220222T222358Z
UID:4751-1647943200-1647952200@marsharafter.com
SUMMARY:Tuesday Morning Classes- March 22nd\, 2022
DESCRIPTION:There are so many creative projects in process in the studio –  a variety of wall pieces\, tables\, mirrors\, mandalas\, and garden art pieces. This class is a combination of beginners as well as advanced students. On Tuesdays\, you may choose your own project or\, as always\, I have ideas for projects ready for you if you prefer. Not only will you leave with a wealth of information\, but you will also feel refreshed and renewed as you take tiny pieces and turn them into something beautiful. Mosaics has been found to be very therapeutic for the body\, mind and soul\, is a great stress reliever\, and students experience a deep sense of personal freedom and accomplishment in this process. The environment in the studio is very nurturing and there is a tremendous sense of comradery that has developed that you can be a part of. \nIt is recommended that students start with a small basic project to learn the techniques that will enable you to establish the foundation on which you will be able to build your expertise as a mosaic artist for both fun or profit. \nEmail me – marsha@marsharafter.com\, call\,  or text 530-277-5494 with questions. \n*The cost of $50.00 covers most materials. Occasionally there is an extra fee for hardware or large substrates.
URL:https://marsharafter.com/event/tuesday-morning-classes-march-22nd-2022/
LOCATION:CA
CATEGORIES:Class,Studio
ATTACH;FMTTYPE=image/jpeg:https://marsharafter.com/wp-content/uploads/2019/05/Donnas-address-e1559254615498.jpg
END:VEVENT
BEGIN:VEVENT
DTSTART;TZID=America/Los_Angeles:20220329T100000
DTEND;TZID=America/Los_Angeles:20220329T123000
DTSTAMP:20260421T190014
CREATED:20220222T221605Z
LAST-MODIFIED:20220222T221605Z
UID:4746-1648548000-1648557000@marsharafter.com
SUMMARY:Tuesday Morning Classes- March 29th\, 2022
DESCRIPTION:There are so many creative projects in process in the studio –  a variety of wall pieces\, tables\, mirrors\, mandalas\, and garden art pieces. This class is a combination of beginners as well as advanced students. On Tuesdays\, you may choose your own project or\, as always\, I have ideas for projects ready for you if you prefer. Not only will you leave with a wealth of information\, but you will also feel refreshed and renewed as you take tiny pieces and turn them into something beautiful. Mosaics has been found to be very therapeutic for the body\, mind and soul\, is a great stress reliever\, and students experience a deep sense of personal freedom and accomplishment in this process. The environment in the studio is very nurturing and there is a tremendous sense of comradery that has developed that you can be a part of. \nIt is recommended that students start with a small basic project to learn the techniques that will enable you to establish the foundation on which you will be able to build your expertise as a mosaic artist for both fun or profit. \nEmail me – marsha@marsharafter.com\, call\,  or text 530-277-5494 with questions. \n*The cost of $50.00 covers most materials. Occasionally there is an extra fee for hardware or large substrates.
URL:https://marsharafter.com/event/tuesday-morning-classes-march-29th-2022/
LOCATION:CA
CATEGORIES:Class,Studio
ATTACH;FMTTYPE=image/jpeg:https://marsharafter.com/wp-content/uploads/2019/09/Totem-Lisas-fish-e1568249745883.jpg
END:VEVENT
END:VCALENDAR