BEGIN:VCALENDAR
VERSION:2.0
PRODID:-//Marsha Rafter - ECPv6.15.20//NONSGML v1.0//EN
CALSCALE:GREGORIAN
METHOD:PUBLISH
X-ORIGINAL-URL:https://marsharafter.com
X-WR-CALDESC:Events for Marsha Rafter
REFRESH-INTERVAL;VALUE=DURATION:PT1H
X-Robots-Tag:noindex
X-PUBLISHED-TTL:PT1H
BEGIN:VTIMEZONE
TZID:America/Los_Angeles
BEGIN:DAYLIGHT
TZOFFSETFROM:-0800
TZOFFSETTO:-0700
TZNAME:PDT
DTSTART:20210314T100000
END:DAYLIGHT
BEGIN:STANDARD
TZOFFSETFROM:-0700
TZOFFSETTO:-0800
TZNAME:PST
DTSTART:20211107T090000
END:STANDARD
BEGIN:DAYLIGHT
TZOFFSETFROM:-0800
TZOFFSETTO:-0700
TZNAME:PDT
DTSTART:20220313T100000
END:DAYLIGHT
BEGIN:STANDARD
TZOFFSETFROM:-0700
TZOFFSETTO:-0800
TZNAME:PST
DTSTART:20221106T090000
END:STANDARD
BEGIN:DAYLIGHT
TZOFFSETFROM:-0800
TZOFFSETTO:-0700
TZNAME:PDT
DTSTART:20230312T100000
END:DAYLIGHT
BEGIN:STANDARD
TZOFFSETFROM:-0700
TZOFFSETTO:-0800
TZNAME:PST
DTSTART:20231105T090000
END:STANDARD
END:VTIMEZONE
BEGIN:VEVENT
DTSTART;TZID=America/Los_Angeles:20220503T100000
DTEND;TZID=America/Los_Angeles:20220503T123000
DTSTAMP:20260421T144154
CREATED:20220331T143148Z
LAST-MODIFIED:20220331T143235Z
UID:4809-1651572000-1651581000@marsharafter.com
SUMMARY:Tuesday Morning Classes May 3\, 2022
DESCRIPTION:There are so many creative projects in process in the studio –  a variety of wall pieces\, tables\, mirrors\, mandalas\, and garden art pieces. This class is a combination of beginners as well as advanced students. On Tuesdays\, you may choose your own project or\, as always\, I have ideas for projects ready for you if you prefer. Not only will you leave with a wealth of information\, but you will also feel refreshed and renewed as you take tiny pieces and turn them into something beautiful. Mosaics has been found to be very therapeutic for the body\, mind and soul\, is a great stress reliever\, and students experience a deep sense of personal freedom and accomplishment in this process. The environment in the studio is very nurturing and there is a tremendous sense of comradery that has developed that you can be a part of. \nIt is recommended that students start with a small basic project to learn the techniques that will enable you to establish the foundation on which you will be able to build your expertise as a mosaic artist for both fun or profit. \nEmail me – marsha@marsharafter.com\, call\,  or text 530-277-5494 with questions. \n*The cost of $50.00 covers most materials. Occasionally there is an extra fee for hardware or large substrates.
URL:https://marsharafter.com/event/tuesday-morning-classes-may-3-2022/
LOCATION:Marsha’s Studio\, 28202 Burned Oak Terrace\, Escondido\, CA\, 92026\, United States
CATEGORIES:Class,Studio
ATTACH;FMTTYPE=image/jpeg:https://marsharafter.com/wp-content/uploads/2020/01/Gwynnes-bench-rotated-e1579551422297.jpg
GEO:33.2192859;-117.103975
X-APPLE-STRUCTURED-LOCATION;VALUE=URI;X-ADDRESS=Marsha’s Studio 28202 Burned Oak Terrace Escondido CA 92026 United States;X-APPLE-RADIUS=500;X-TITLE=28202 Burned Oak Terrace:geo:-117.103975,33.2192859
END:VEVENT
BEGIN:VEVENT
DTSTART;TZID=America/Los_Angeles:20220510T100000
DTEND;TZID=America/Los_Angeles:20220510T123000
DTSTAMP:20260421T144154
CREATED:20220418T145911Z
LAST-MODIFIED:20220418T193004Z
UID:4823-1652176800-1652185800@marsharafter.com
SUMMARY:Tuesday Morning Classes- May 10\, 2022
DESCRIPTION:  \nThere are so many creative projects in process in the studio –  a variety of wall pieces\, tables\, mirrors\, mandalas\, and garden art pieces. This class is a combination of beginners as well as advanced students. On Tuesdays\, you may choose your own project or\, as always\, I have ideas for projects ready for you if you prefer. Not only will you leave with a wealth of information\, but you will also feel refreshed and renewed as you take tiny pieces and turn them into something beautiful. Mosaics has been found to be very therapeutic for the body\, mind and soul\, is a great stress reliever\, and students experience a deep sense of personal freedom and accomplishment in this process. The environment in the studio is very nurturing and there is a tremendous sense of comradery that has developed that you can be a part of. \nIt is recommended that students start with a small basic project to learn the techniques that will enable you to establish the foundation on which you will be able to build your expertise as a mosaic artist for both fun or profit. \nEmail me – marsha@marsharafter.com\, call\,  or text 530-277-5494 with questions. \n*The cost of $50.00 covers most materials. Occasionally there is an extra fee for hardware or large substrates.
URL:https://marsharafter.com/event/tuesday-morning-classes-may-10-2022/
LOCATION:Marsha’s Studio\, 28202 Burned Oak Terrace\, Escondido\, CA\, 92026\, United States
CATEGORIES:Class,Studio
ATTACH;FMTTYPE=image/jpeg:https://marsharafter.com/wp-content/uploads/2020/08/IMG_2438-scaled-e1600216027683.jpg
GEO:33.2192859;-117.103975
X-APPLE-STRUCTURED-LOCATION;VALUE=URI;X-ADDRESS=Marsha’s Studio 28202 Burned Oak Terrace Escondido CA 92026 United States;X-APPLE-RADIUS=500;X-TITLE=28202 Burned Oak Terrace:geo:-117.103975,33.2192859
END:VEVENT
BEGIN:VEVENT
DTSTART;TZID=America/Los_Angeles:20220524T100000
DTEND;TZID=America/Los_Angeles:20220524T123000
DTSTAMP:20260421T144154
CREATED:20220518T224724Z
LAST-MODIFIED:20220518T224724Z
UID:4838-1653386400-1653395400@marsharafter.com
SUMMARY:Tuesday Morning Classes- May 24\, 2022
DESCRIPTION:  \n \nThere are so many creative projects in process in the studio –  a variety of wall pieces\, tables\, mirrors\, mandalas\, and garden art pieces. This class is a combination of beginners as well as advanced students. On Tuesdays\, you may choose your own project or\, as always\, I have ideas for projects ready for you if you prefer. Not only will you leave with a wealth of information\, but you will also feel refreshed and renewed as you take tiny pieces and turn them into something beautiful. Mosaics has been found to be very therapeutic for the body\, mind and soul\, is a great stress reliever\, and students experience a deep sense of personal freedom and accomplishment in this process. The environment in the studio is very nurturing and there is a tremendous sense of comradery that has developed that you can be a part of. \nIt is recommended that students start with a small basic project to learn the techniques that will enable you to establish the foundation on which you will be able to build your expertise as a mosaic artist for both fun or profit. \nEmail me – marsha@marsharafter.com\, call\,  or text 530-277-5494 with questions. \n*The cost of $50.00 covers most materials. Occasionally there is an extra fee for hardware or large substrates.
URL:https://marsharafter.com/event/tuesday-morning-classes-may-24-2022/
LOCATION:Marsha’s Studio\, 28202 Burned Oak Terrace\, Escondido\, CA\, 92026\, United States
CATEGORIES:Class,Studio
ATTACH;FMTTYPE=image/jpeg:https://marsharafter.com/wp-content/uploads/2020/09/IMG_2538-scaled-e1600230549877.jpg
GEO:33.2192859;-117.103975
X-APPLE-STRUCTURED-LOCATION;VALUE=URI;X-ADDRESS=Marsha’s Studio 28202 Burned Oak Terrace Escondido CA 92026 United States;X-APPLE-RADIUS=500;X-TITLE=28202 Burned Oak Terrace:geo:-117.103975,33.2192859
END:VEVENT
BEGIN:VEVENT
DTSTART;TZID=America/Los_Angeles:20220531T100000
DTEND;TZID=America/Los_Angeles:20220531T123000
DTSTAMP:20260421T144154
CREATED:20220518T225601Z
LAST-MODIFIED:20220526T194916Z
UID:4845-1653991200-1654000200@marsharafter.com
SUMMARY:Tuesday Morning Classes- May 31\, 2022
DESCRIPTION:  \nThere are so many creative projects in process in the studio –  a variety of wall pieces\, tables\, mirrors\, mandalas\, and garden art pieces. This class is a combination of beginners as well as advanced students. On Tuesdays\, you may choose your own project or\, as always\, I have ideas for projects ready for you if you prefer. Not only will you leave with a wealth of information\, but you will also feel refreshed and renewed as you take tiny pieces and turn them into something beautiful. Mosaics has been found to be very therapeutic for the body\, mind and soul\, is a great stress reliever\, and students experience a deep sense of personal freedom and accomplishment in this process. The environment in the studio is very nurturing and there is a tremendous sense of comradery that has developed that you can be a part of. \nIt is recommended that students start with a small basic project to learn the techniques that will enable you to establish the foundation on which you will be able to build your expertise as a mosaic artist for both fun or profit. \nEmail me – marsha@marsharafter.com\, call\,  or text 530-277-5494 with questions. \n*The cost of $50.00 covers most materials. Occasionally there is an extra fee for hardware or large substrates.
URL:https://marsharafter.com/event/tuesday-morning-classes-may-31-2022/
LOCATION:Marsha’s Studio\, 28202 Burned Oak Terrace\, Escondido\, CA\, 92026\, United States
CATEGORIES:Class,Studio
ATTACH;FMTTYPE=image/jpeg:https://marsharafter.com/wp-content/uploads/2020/08/IMG_2438-scaled-e1600216027683.jpg
GEO:33.2192859;-117.103975
X-APPLE-STRUCTURED-LOCATION;VALUE=URI;X-ADDRESS=Marsha’s Studio 28202 Burned Oak Terrace Escondido CA 92026 United States;X-APPLE-RADIUS=500;X-TITLE=28202 Burned Oak Terrace:geo:-117.103975,33.2192859
END:VEVENT
END:VCALENDAR