BEGIN:VCALENDAR
VERSION:2.0
PRODID:-//Marsha Rafter - ECPv6.15.20//NONSGML v1.0//EN
CALSCALE:GREGORIAN
METHOD:PUBLISH
X-WR-CALNAME:Marsha Rafter
X-ORIGINAL-URL:https://marsharafter.com
X-WR-CALDESC:Events for Marsha Rafter
REFRESH-INTERVAL;VALUE=DURATION:PT1H
X-Robots-Tag:noindex
X-PUBLISHED-TTL:PT1H
BEGIN:VTIMEZONE
TZID:America/Los_Angeles
BEGIN:DAYLIGHT
TZOFFSETFROM:-0800
TZOFFSETTO:-0700
TZNAME:PDT
DTSTART:20150308T100000
END:DAYLIGHT
BEGIN:STANDARD
TZOFFSETFROM:-0700
TZOFFSETTO:-0800
TZNAME:PST
DTSTART:20151101T090000
END:STANDARD
BEGIN:DAYLIGHT
TZOFFSETFROM:-0800
TZOFFSETTO:-0700
TZNAME:PDT
DTSTART:20160313T100000
END:DAYLIGHT
BEGIN:STANDARD
TZOFFSETFROM:-0700
TZOFFSETTO:-0800
TZNAME:PST
DTSTART:20161106T090000
END:STANDARD
BEGIN:DAYLIGHT
TZOFFSETFROM:-0800
TZOFFSETTO:-0700
TZNAME:PDT
DTSTART:20170312T100000
END:DAYLIGHT
BEGIN:STANDARD
TZOFFSETFROM:-0700
TZOFFSETTO:-0800
TZNAME:PST
DTSTART:20171105T090000
END:STANDARD
END:VTIMEZONE
BEGIN:VEVENT
DTSTART;TZID=America/Los_Angeles:20161008T100000
DTEND;TZID=America/Los_Angeles:20161008T160000
DTSTAMP:20260421T073118
CREATED:20160818T220923Z
LAST-MODIFIED:20161006T025818Z
UID:563-1475920800-1475942400@marsharafter.com
SUMMARY:Butterflies and Dragonflies for the Garden
DESCRIPTION:Come enjoy a relaxing day of creating art for your garden with friends. In this beginning mosaic class\, you‘ll be creating a butterfly or dragonfly using beautiful stained glass\, mirror glass\, iridescent glass\, beads\, and glass gems. You’ll learn about tools and how to use them properly\, how to cut glass\, which adhesive to use\, how to prep the substrate\, how to mix grout\, and how to hang your piece. A rainbow of glass colors will be available for you to choose from. All materials and tools will be provided. If you have things you would like to use such as special glass\, old jewelry\, beads\, old china\, or other mementos\, please feel free to bring them. At the end of the day you will have a finished piece ready to hang on a garden wall. \n  \n \n  \nI will be guiding you through the drawing and design process and I will have some templates for those who want to use my design ideas. Wear dark or old clothes\, or bring an apron as we will be using black grout. I can’t wait to meet you and to have a fun day creating at the garden! \n  \nSignup will be available starting on September 1 through the San Diego Botanic Garden. Visit http://sdbgarden.org/classes.htm in September for more information. \nNo experience necessary!
URL:https://marsharafter.com/event/butterflies-and-dragonflies-for-the-garden/
LOCATION:San Diego Botanic Garden\, 230 Quail Gardens Drive\, Encinitas\, CA\, 92024\, United States
CATEGORIES:Workshop
ATTACH;FMTTYPE=image/jpeg:https://marsharafter.com/wp-content/uploads/2016/07/Lauras-Dragonfly.jpg
GEO:33.0526302;-117.2799539
X-APPLE-STRUCTURED-LOCATION;VALUE=URI;X-ADDRESS=San Diego Botanic Garden 230 Quail Gardens Drive Encinitas CA 92024 United States;X-APPLE-RADIUS=500;X-TITLE=230 Quail Gardens Drive:geo:-117.2799539,33.0526302
END:VEVENT
BEGIN:VEVENT
DTSTART;TZID=America/Los_Angeles:20160924T100000
DTEND;TZID=America/Los_Angeles:20160924T170000
DTSTAMP:20260421T073118
CREATED:20160809T044001Z
LAST-MODIFIED:20160818T222642Z
UID:239-1474711200-1474736400@marsharafter.com
SUMMARY:Mosaics with a Twist
DESCRIPTION:Email Marsha for more information and to register. \n\n 
URL:https://marsharafter.com/event/mosaics-with-a-twist/
LOCATION:Private Residence\, Los Gatos\, CA\, United States
CATEGORIES:Workshop
ATTACH;FMTTYPE=image/jpeg:https://marsharafter.com/wp-content/uploads/2016/08/Mosaic-Mandala.jpg
GEO:37.2358078;-121.9623751
END:VEVENT
BEGIN:VEVENT
DTSTART;TZID=America/Los_Angeles:20160917T100000
DTEND;TZID=America/Los_Angeles:20160917T170000
DTSTAMP:20260421T073118
CREATED:20160809T044211Z
LAST-MODIFIED:20160818T222715Z
UID:241-1474106400-1474131600@marsharafter.com
SUMMARY:Creative Glass Mosaics
DESCRIPTION:For more information and to register\, please visit http://www.fallbrookschoolofthearts.com.
URL:https://marsharafter.com/event/creative-glass-mosaics/
LOCATION:Fallbrook School of the Arts\, 310 East Alvarado Street\, Fallbrook\, CA\, 92028\, United States
CATEGORIES:Workshop
ATTACH;FMTTYPE=image/jpeg:https://marsharafter.com/wp-content/uploads/2016/08/Marsha-Blue-Mosaic-Butterfly-scaled.jpg
GEO:33.3823284;-117.2490971
X-APPLE-STRUCTURED-LOCATION;VALUE=URI;X-ADDRESS=Fallbrook School of the Arts 310 East Alvarado Street Fallbrook CA 92028 United States;X-APPLE-RADIUS=500;X-TITLE=310 East Alvarado Street:geo:-117.2490971,33.3823284
END:VEVENT
BEGIN:VEVENT
DTSTART;TZID=America/Los_Angeles:20160910T110000
DTEND;TZID=America/Los_Angeles:20160910T160000
DTSTAMP:20260421T073118
CREATED:20160809T044757Z
LAST-MODIFIED:20160818T222721Z
UID:243-1473505200-1473523200@marsharafter.com
SUMMARY:Creative Mosaics 101
DESCRIPTION:Come join the fun! Our project will be a butterfly\, dragonfly\, seahorse\, starfish\, sun\, or owl. You will learn the indirect method of creating mosaics using mesh and the best way to create gorgeous patterns and compositions using fabulous colored opaque glass and glass gems. Discover the best products to create long lasting and beautiful mosaics for both indoor and outdoor settings. You’ll learn glass cutting techniques as well as all about substrates and adhesives. At the end of the day you’ll go home with a finished piece ready to hang.  No experience necessary!
URL:https://marsharafter.com/event/creative-mosaics-101/
LOCATION:Escondido Arts Partnership\, 262 E. Grand Ave.\, Escondido\, CA\, 92025\, United States
CATEGORIES:Workshop
ATTACH;FMTTYPE=image/jpeg:https://marsharafter.com/wp-content/uploads/2016/08/MR-EAP-Flyer-v4.jpg
GEO:33.1232106;-117.0791272
X-APPLE-STRUCTURED-LOCATION;VALUE=URI;X-ADDRESS=Escondido Arts Partnership 262 E. Grand Ave. Escondido CA 92025 United States;X-APPLE-RADIUS=500;X-TITLE=262 E. Grand Ave.:geo:-117.0791272,33.1232106
END:VEVENT
BEGIN:VEVENT
DTSTART;TZID=America/Los_Angeles:20160816T100000
DTEND;TZID=America/Los_Angeles:20160816T123000
DTSTAMP:20260421T073118
CREATED:20160809T045425Z
LAST-MODIFIED:20160823T015546Z
UID:246-1471341600-1471350600@marsharafter.com
SUMMARY:Tuesday Morning Beginning and Advanced Mosaics (ongoing)
DESCRIPTION:Choose a project of the month from a butterfly\, dragonfly\, gecko\, lizard\, seahorse\, sea turtle\, starfish or sun. Over the course of four sessions you will be well versed and have a broad knowledge of the mosaic tools\, substrates\, adhesives and the techniques you need to make just about anything covered in brightly colored glass and tile. You will learn how to create gorgeous patterns and compositions using fabulous colored opaque glass\, mirror glass\, glass gems\, and ceramic embellishments. You’ll learn about the best products to create long lasting\, beautiful mosaics for both indoor and outdoor settings. \n  \n*Students who have taken several classes may work on individual projects of their choosing. \n  \n\n  \n\n  \n 
URL:https://marsharafter.com/event/beginning-and-advanced-mosaics-ongoing/2016-08-16/
LOCATION:Marsha’s Studio\, 28202 Burned Oak Terrace\, Escondido\, CA\, 92026\, United States
CATEGORIES:Workshop
ATTACH;FMTTYPE=image/jpeg:https://marsharafter.com/wp-content/uploads/2016/08/Marsha-Rafter-Mosaics-Class-scaled.jpg
GEO:33.2192859;-117.103975
X-APPLE-STRUCTURED-LOCATION;VALUE=URI;X-ADDRESS=Marsha’s Studio 28202 Burned Oak Terrace Escondido CA 92026 United States;X-APPLE-RADIUS=500;X-TITLE=28202 Burned Oak Terrace:geo:-117.103975,33.2192859
END:VEVENT
END:VCALENDAR