BEGIN:VCALENDAR
VERSION:2.0
PRODID:-//Marsha Rafter - ECPv6.15.20//NONSGML v1.0//EN
CALSCALE:GREGORIAN
METHOD:PUBLISH
X-WR-CALNAME:Marsha Rafter
X-ORIGINAL-URL:https://marsharafter.com
X-WR-CALDESC:Events for Marsha Rafter
REFRESH-INTERVAL;VALUE=DURATION:PT1H
X-Robots-Tag:noindex
X-PUBLISHED-TTL:PT1H
BEGIN:VTIMEZONE
TZID:America/Los_Angeles
BEGIN:DAYLIGHT
TZOFFSETFROM:-0800
TZOFFSETTO:-0700
TZNAME:PDT
DTSTART:20210314T100000
END:DAYLIGHT
BEGIN:STANDARD
TZOFFSETFROM:-0700
TZOFFSETTO:-0800
TZNAME:PST
DTSTART:20211107T090000
END:STANDARD
BEGIN:DAYLIGHT
TZOFFSETFROM:-0800
TZOFFSETTO:-0700
TZNAME:PDT
DTSTART:20220313T100000
END:DAYLIGHT
BEGIN:STANDARD
TZOFFSETFROM:-0700
TZOFFSETTO:-0800
TZNAME:PST
DTSTART:20221106T090000
END:STANDARD
BEGIN:DAYLIGHT
TZOFFSETFROM:-0800
TZOFFSETTO:-0700
TZNAME:PDT
DTSTART:20230312T100000
END:DAYLIGHT
BEGIN:STANDARD
TZOFFSETFROM:-0700
TZOFFSETTO:-0800
TZNAME:PST
DTSTART:20231105T090000
END:STANDARD
END:VTIMEZONE
BEGIN:VEVENT
DTSTART;TZID=America/Los_Angeles:20220130T170000
DTEND;TZID=America/Los_Angeles:20220205T110000
DTSTAMP:20260424T200928
CREATED:20200407T000918Z
LAST-MODIFIED:20210809T212234Z
UID:3773-1643562000-1644058800@marsharafter.com
SUMMARY:Hacienda Mosaico Retreat   Jan 30-Feb 5\, 2022
DESCRIPTION:  \n \n3 D  Sculptural Mosaic Cactus \n$2050 total cost for the workshop and accommodations for the week \nIncludes 5 days instruction\, 6 nights lodging\, and two delicious meals made by the Hacienda’s personal chef and served poolside each day. There is a Welcome Happy Hour Sunday evening with delicious hors d’oeuvres  and drinks. The studio is open 24/7. \nDuring this five day mosaic retreat\, you’ll learn all the skills needed to create your very own 3D sculptural cactus. We’ll begin with learning how to construct the armature using foam\, mesh and Pal Tiya\, and then you’ll learn the mesh method for doing your mosaic work on and then thinsetting it to the sculpture.  You’ll work on a smaller scale so that you’ll be able to bring your pieces home with you in a large suitcase. \nSkills you will learn include: \nWorking with Pal Tiya to create an armature\, glass cutting techniques and tips\, design ideas and considerations\, mixing and coloring thinset\, and mixing and coloring grout\, using mesh to lay your tessarae\, and transferring mesh with tessarae onto your substrate. In addition\, we will have access to a kiln and if you want to include learning how to make handmade flowers and tunas for the top of the cactus you will have that option. \n***Should you prefer to bring your own mosaic project idea to work on for the week or make something different than a cactus\, I am more than willing to accommodate that. We will work together in advance to discuss your project idea via email. You will then be responsible for bringing your own materials and the appropriate hand tools to cut your selected tesserae. For safe and cost effective transportation of your art work we suggest student designs not exceed 3 square feet. \nStudents should bring mosaic hand tools including a good quality wheeled nipper\, glass scoring tool\, a running plier and a pair of scissors. \nInstructional Studio Sessions: \nWe will be working in the studio from 10 AM – 4 PM. Daily schedules will be made clear so as not to infringe on the extraordinary variety of activities that the Hacienda Mosaico and Puerto Vallarta have to offer.  You also have 24 hours studio access each  day. \nThis workshop is open to students of all levels. Although some mosaic experience may be helpful\, it is not necessary. \nMore details and info can be found on the Hacienda website: \nhttp://haciendamosaico.com/marsha-rafter/ \nAbout the Hacienda….it is a magical corner of the world. This walled garden hacienda with swimming pool and inviting common areas is artist owned and operated. Art abounds! The accommodations are excellent. Every room is uniquely decorated and comfortable. Meals are prepared poolside in an open air kitchen and every meal is a treat. The Hacienda is located in a family friendly residential neighborhood. A quick and inexpensive taxi ride gets you to the beaches and wonderful shopping\, art galleries\, restaurants and nightlife. Puerto Vallarta is a beautiful and friendly beach resort. \nLocation: \nThe beach is within walking distance and the swimming pool is steps away from your door.  Hacienda Mosaico’s garden paradise is very private and filled with lush tropical plants and colorful artwork created by artists and workshop participants from all over the world.  The town of Puerto Vallarta has interesting shops\, restaurants\, galleries. The charm and beauty of Mexico is just waiting for you to explore! \n**Dinner options abound with many delicious and internationally varied choices within walking distance of Hacienda Mosaico.  Puerto Vallarta is an easy cab or even bus ride away where there are more wonderful choices. \nWe often combine the weekly “Gallery Stroll” with a group dinner at a beach side restaurant! \n2022 Workshop Price is $2050.00  which includes 5 days instruction\, 6 nights lodging\, and two delicious meals beautifully presented and served poolside each day. There is a Welcome Happy Hour Sunday evening with abundant hors d’oeuvres  and drinks. \nFees for this workshop are handled by me directly.  A 50% deposit of $1025 secures your spot\, with payment in full due December 1\, 2021. \nPlease pay by check for this class.  \nYou can mail your deposit or full payment to: \n28202 Burned Oak Terrace\, Escondido\, CA 92026 \nHacienda Mosaico and Marsha Rafter Mosaics combined cancellation policy:\n– All cancellations are subject to a $50.00 processing fee.\n– Reservations cancelled prior to 60 days\,will receive full refund of fees paid\, less $50.00 processing fee. \n– Cancellations up 60-30 days prior to workshop will receive credit in the amount paid for future workshops less $50.00 processing fee. good for one calendar year.\n– Cancellations less than 30 days prior to workshop will not receive a refund of any fees paid or a credit for future workshops. \nShould any workshop/retreat be canceled by Hacienda Mosaico or Marsha Rafter Mosaics\, the entire amount paid will be refunded within fourteen days after cancellation.\nOnce this occurs\, Hacienda Mosaico nor Marsha Rafter Mosaics have no obligation regarding any additional costs or fees related to the issuance and/or cancellation of airline tickets or other travel reservations.\nHacienda Mosaico or Marsha Rafter Mosaics accepts no liability for any airline cancellation penalty incurred by the purchase of a non-refundable ticket. Nor does it accept liability for canceled flights. \nTravel Insurance: \n– It is strongly recommended that all workshop participants purchase Trip Cancellation\, Emergency Medical Evacuation\, Baggage\, Accident and Medical insurance from a reputable insurance company. \n–  Travel Insurance 101:  How to Protect Your Vacation.  This ‘plain language’ tutorial will explain travel insurance so you can easily find the right plan:  https://www.travelinsurancereview.net/beginners-guide/  \n–  Some more good links to review:  www.travelinsured.com or www.travelsafe.com\nhttps://www.nerdwallet.com/blog/insurance/travel-insurance/ \nA note about accommodations: Rooms are double occupancy and pricing is based on such. If you have a roommate request we are happy to accommodate. We can not guarantee a single room. Know all rooms are spacious and have en suite bathrooms. 9o% of our students are female. If you are the only male student\, and we are sold out\, we will house you at a neighboring property (a small\, private apartment that shares a wall with the Hacienda). There is no additional charge for this space. You will have 24 hour access to the Hacienda property and studio\, and have breakfast and dinner along with the other students. \n\n		\n		\n			\n				\n			\n			\n				\n			\n			\n				\n			\n			\n				\n			\n			\n				\n			\n			\n				\n			\n		\n\n\n		\n		\n			\n				\n			\n			\n				\n			\n			\n				\n			\n			\n				\n			\n			\n				\n			\n			\n				\n			\n			\n				\n			\n			\n				\n			\n			\n				\n			\n			\n				\n			\n			\n				\n			\n			\n				\n			\n			\n				\n			\n			\n				\n			\n			\n				\n			\n			\n				\n			\n			\n				\n			\n			\n				\n			\n			\n				\n			\n			\n				\n			\n			\n				\n			\n			\n				\n			\n			\n				\n			\n			\n				\n			\n			\n				\n			\n			\n		\n\n 
URL:https://marsharafter.com/event/hacienda-mosaico-retreat-jan-31-feb-6/
LOCATION:Hacienda Mosaico\, Puerta Vallarta\, Mexico
CATEGORIES:Other Locations,Retreat,Workshop
ATTACH;FMTTYPE=image/jpeg:https://marsharafter.com/wp-content/uploads/2019/07/IMG_4858-e1563836310770.jpg
ORGANIZER;CN="Hacienda Mosaico":MAILTO:info@haciendamosaico.com
GEO:20.653407;-105.2253316
END:VEVENT
END:VCALENDAR