BEGIN:VCALENDAR
VERSION:2.0
PRODID:-//Marsha Rafter - ECPv6.15.20//NONSGML v1.0//EN
CALSCALE:GREGORIAN
METHOD:PUBLISH
X-WR-CALNAME:Marsha Rafter
X-ORIGINAL-URL:https://marsharafter.com
X-WR-CALDESC:Events for Marsha Rafter
REFRESH-INTERVAL;VALUE=DURATION:PT1H
X-Robots-Tag:noindex
X-PUBLISHED-TTL:PT1H
BEGIN:VTIMEZONE
TZID:America/Los_Angeles
BEGIN:DAYLIGHT
TZOFFSETFROM:-0800
TZOFFSETTO:-0700
TZNAME:PDT
DTSTART:20170312T100000
END:DAYLIGHT
BEGIN:STANDARD
TZOFFSETFROM:-0700
TZOFFSETTO:-0800
TZNAME:PST
DTSTART:20171105T090000
END:STANDARD
BEGIN:DAYLIGHT
TZOFFSETFROM:-0800
TZOFFSETTO:-0700
TZNAME:PDT
DTSTART:20180311T100000
END:DAYLIGHT
BEGIN:STANDARD
TZOFFSETFROM:-0700
TZOFFSETTO:-0800
TZNAME:PST
DTSTART:20181104T090000
END:STANDARD
BEGIN:DAYLIGHT
TZOFFSETFROM:-0800
TZOFFSETTO:-0700
TZNAME:PDT
DTSTART:20190310T100000
END:DAYLIGHT
BEGIN:STANDARD
TZOFFSETFROM:-0700
TZOFFSETTO:-0800
TZNAME:PST
DTSTART:20191103T090000
END:STANDARD
BEGIN:DAYLIGHT
TZOFFSETFROM:-0800
TZOFFSETTO:-0700
TZNAME:PDT
DTSTART:20200308T100000
END:DAYLIGHT
BEGIN:STANDARD
TZOFFSETFROM:-0700
TZOFFSETTO:-0800
TZNAME:PST
DTSTART:20201101T090000
END:STANDARD
END:VTIMEZONE
BEGIN:VEVENT
DTSTART;TZID=America/Los_Angeles:20190517T100000
DTEND;TZID=America/Los_Angeles:20190519T170000
DTSTAMP:20260419T122041
CREATED:20190116T225854Z
LAST-MODIFIED:20190116T232825Z
UID:2744-1558087200-1558285200@marsharafter.com
SUMMARY:Austin School of Mosaics- Mosaic Totems
DESCRIPTION:  \n3D Sculptural Totem\nMay 17-19 10:00-5:00 \nDuring this three day mosaic workshop\, you’ll learn all the skills needed to create your very own 3D Sculptural Totem. We’ll begin with learning a variety of ways to construct the base and interior support and then how to build the individual pieces that stack to create your totem. We’ll be working on a slightly smaller scale so that you’ll be able to bring your stacking pieces home with you if you do not live locally. Once you are registered\, your design ideas will be discussed via email with Marsha before the class. \nThis workshop is open to students of all levels. Although some mosaic experience may be helpful\, it is not absolutely necessary. \nSkills learned in this workshop would be excellent for those who want to learn techniques for exterior mosaic sculpture. \n  \n*Students are responsible to bring their own tools and may bring some supplies for their personal project. Materials list & instructions on packing will be sent after registration. \nSign up through the Austin Mosaic School website here: \nhttp://austinmosaicschool.com/workshops.html#!/May-17-19-3D-Mosaic-Totems-with-Marsha-Rafter/p/128738095/category=0
URL:https://marsharafter.com/event/mosaic-totems-in-austin-tx/
LOCATION:Austin Mosaic School\, ​1810 W Anderson Lane\, Austin\, Texas\, 78757
CATEGORIES:Other Locations,Workshop
ATTACH;FMTTYPE=image/jpeg:https://marsharafter.com/wp-content/uploads/2019/01/IMG_4213-e1547679498778.jpg
GEO:30.3551388;-97.7287884
X-APPLE-STRUCTURED-LOCATION;VALUE=URI;X-ADDRESS=Austin Mosaic School ​1810 W Anderson Lane Austin Texas 78757;X-APPLE-RADIUS=500;X-TITLE=​1810 W Anderson Lane:geo:-97.7287884,30.3551388
END:VEVENT
BEGIN:VEVENT
DTSTART;VALUE=DATE:20180928
DTEND;VALUE=DATE:20181001
DTSTAMP:20260419T122041
CREATED:20180604T003928Z
LAST-MODIFIED:20180816T212015Z
UID:2256-1538092800-1538351999@marsharafter.com
SUMMARY:Austin Mosaic School- Sept. 28-30\, 2018
DESCRIPTION:During this action-packed three day mosaic workshop\, you will learn an amazing variety of skills and techniques to create your very own 3D Sculptural Mosaic Flower. \nWe’ll begin on Friday by learning how to use power tools to cut and shape a 2” wedi board substrate and then how to prepare your substrate to be weatherproof outside. You will also learn how to create the structure necessary to mount your piece on a pole to be installed in the garden or on a patio if you choose. \nOn day two\, you’ll choose from a variety of flower designs to be a guide for your mosaic. Glass cutting skills will be taught for any beginners and you’ll learn how to work on sticky mesh. Then you’ll be free to create using everything from custom clay tiles\, to stained glass\, mirror\, glass gems\, ball chain\, millefiore and more. \nOn day three\, you’ll be learning how to mix and custom color grout using powdered tints and complete the grouting of your piece. \nThis workshop is open to students of all levels. Although some mosaic experience may be helpful\, it is not necessary. Most students will complete their piece. However\, this is a two sided project\, and depending on your pace\, you may choose to finish at home. \nSkills learned can be used and applied to future projects\, both large and small-scale for indoor as well as outdoor application. If you have any curiosity about how to create pieces out of clay for your mosaics\, you will love this workshop. Marsha will be demonstrating how to make her signature clay tiles and there will be a variety of tiles available for purchase. Registration is through the Austin Mosaic School’s website. \nhttp://austinmosaicschool.com/classes–workshops.html#!/SCULPTURAL-MOSAIC-FLOWERS-with-Marsha-Rafter/p/103943516/category=0
URL:https://marsharafter.com/event/austin-mosaic-school-sept-28-30/
LOCATION:Austin Mosaic School\, ​1810 W Anderson Lane\, Austin\, Texas\, 78757
CATEGORIES:Other Locations
ATTACH;FMTTYPE=image/jpeg:https://marsharafter.com/wp-content/uploads/2018/06/Blue-Starburst-Flower-e1528070855469.jpg
GEO:30.3551388;-97.7287884
X-APPLE-STRUCTURED-LOCATION;VALUE=URI;X-ADDRESS=Austin Mosaic School ​1810 W Anderson Lane Austin Texas 78757;X-APPLE-RADIUS=500;X-TITLE=​1810 W Anderson Lane:geo:-97.7287884,30.3551388
END:VEVENT
END:VCALENDAR